BEGIN:VCALENDAR
VERSION:2.0
PRODID:icalendar-ruby
CALSCALE:GREGORIAN
METHOD:PUBLISH
BEGIN:VEVENT
DTSTAMP:20260425T234032Z
UID:10-358165@redeemerurc.com
DTSTART:20261101T150000Z
DTEND:20261101T161500Z
CLASS:PUBLIC
CREATED:20260425T174536
DESCRIPTION:
LAST-MODIFIED:20260425T174536
LOCATION:
SUMMARY:Sunday Morning Worship Service
URL;VALUE=URI:https://www.redeemerurc.com/events/sunday-morning-worship-ser
 vice/2026-11-01
END:VEVENT
END:VCALENDAR
