BEGIN:VCALENDAR
VERSION:2.0
PRODID:icalendar-ruby
CALSCALE:GREGORIAN
METHOD:PUBLISH
BEGIN:VEVENT
DTSTAMP:20260425T221327Z
UID:10-357903@redeemerurc.com
DTSTART:20261025T140000Z
DTEND:20261025T151500Z
CLASS:PUBLIC
CREATED:20260425T150320
DESCRIPTION:
LAST-MODIFIED:20260425T150320
LOCATION:
SUMMARY:Sunday Morning Worship Service
URL;VALUE=URI:https://www.redeemerurc.com/events/sunday-morning-worship-ser
 vice/2026-10-25
END:VEVENT
END:VCALENDAR
