BEGIN:VCALENDAR
VERSION:2.0
PRODID:icalendar-ruby
CALSCALE:GREGORIAN
METHOD:PUBLISH
BEGIN:VEVENT
DTSTAMP:20260425T201928Z
UID:10-357902@redeemerurc.com
DTSTART:20261018T140000Z
DTEND:20261018T151500Z
CLASS:PUBLIC
CREATED:20260425T150320
DESCRIPTION:
LAST-MODIFIED:20260425T150320
LOCATION:
SUMMARY:Sunday Morning Worship Service
URL;VALUE=URI:https://www.redeemerurc.com/events/sunday-morning-worship-ser
 vice/2026-10-18
END:VEVENT
END:VCALENDAR
