BEGIN:VCALENDAR
VERSION:2.0
PRODID:icalendar-ruby
CALSCALE:GREGORIAN
METHOD:PUBLISH
BEGIN:VEVENT
DTSTAMP:20260425T152806Z
UID:10-357377@redeemerurc.com
DTSTART:20260927T140000Z
DTEND:20260927T151500Z
CLASS:PUBLIC
CREATED:20260425T094150
DESCRIPTION:
LAST-MODIFIED:20260425T094150
LOCATION:
SUMMARY:Sunday Morning Worship Service
URL;VALUE=URI:https://www.redeemerurc.com/events/sunday-morning-worship-ser
 vice/2026-09-27
END:VEVENT
END:VCALENDAR
