BEGIN:VCALENDAR
VERSION:2.0
PRODID:icalendar-ruby
CALSCALE:GREGORIAN
METHOD:PUBLISH
BEGIN:VEVENT
DTSTAMP:20260425T134003Z
UID:10-357115@redeemerurc.com
DTSTART:20260920T140000Z
DTEND:20260920T151500Z
CLASS:PUBLIC
CREATED:20260425T070040
DESCRIPTION:
LAST-MODIFIED:20260425T070040
LOCATION:
SUMMARY:Sunday Morning Worship Service
URL;VALUE=URI:https://www.redeemerurc.com/events/sunday-morning-worship-ser
 vice/2026-09-20
END:VEVENT
END:VCALENDAR
